﻿ BEGIN:VCALENDAR
VERSION:2.0
PRODID:-//wp-events-plugin.com//7.2.3.1//EN
TZID:Europe/Paris
X-WR-TIMEZONE:Europe/Paris
BEGIN:VEVENT
UID:158@eco-bretons.info
DTSTART;TZID=Europe/Paris:20260522T140000
DTEND;TZID=Europe/Paris:20260524T220000
DTSTAMP:20260419T151846Z
URL:https://www.eco-bretons.info/events/saint-andre-des-eaux-22-festival-l
 es-palourdes-2026/
SUMMARY:Saint-André-des-Eaux (22) - Festival Les Palourdes 2026
DESCRIPTION:Un festival à l'esprit léger pour expérimenter d'autres mani
 ères d'habiter. Venez vivre des tables rondes\, des ateliers\, des confé
 rences\, des concerts et autres joyeuses animations ! Le Festival Les Palo
 urdes (parce qu'on aime les maisons pas lourdes) revient pour sa 5ème éd
 ition du vendredi 22 au lundi 25 mai 2026.\n\n" Nous vous concoctons un pr
 ogramme convivial et festif\, explorant les sujets cœurs de Hameaux Lége
 rs au travers d'ateliers\, tables rondes\, conférences mais aussi de part
 ages\, concerts et réflexions collectives.\n\n\n\n\nNous vous concoctons 
 un programme convivial et festif\, explorant les sujets cœurs de Hameaux 
 Légers au travers d'ateliers\, tables rondes\, conférences mais aussi de
  partages\, concerts et réflexions collectives.\n\nLes Palourdes\, c'est 
 aussi un festival participatif : chacun·e peut contribuer (proposition d'
 ateliers\, temps d'échanges). Participant·es\, organisateur·ices et int
 ervenant·es sont co-responsables de son bon déroulement (autogestion\, r
 esponsabilité de ses déchets\, solidarité dans les galères ! ...)."\n\
 n\n\n\nhttps://hameaux-legers.org/festival
ATTACH;FMTTYPE=image/jpeg:https://i0.wp.com/www.eco-bretons.info/wp-conten
 t/uploads/2026/04/670924750_1369443611876554_3518793639218293743_n.jpg?fit
 =1080%2C1350&ssl=1
END:VEVENT
BEGIN:VTIMEZONE
TZID:Europe/Paris
X-LIC-LOCATION:Europe/Paris
BEGIN:DAYLIGHT
DTSTART:20260329T030000
TZOFFSETFROM:+0100
TZOFFSETTO:+0200
TZNAME:CEST
END:DAYLIGHT
END:VTIMEZONE
END:VCALENDAR