﻿ BEGIN:VCALENDAR
VERSION:2.0
PRODID:-//wp-events-plugin.com//7.2.3.1//EN
TZID:Europe/Paris
X-WR-TIMEZONE:Europe/Paris
BEGIN:VEVENT
UID:126@eco-bretons.info
DTSTART;TZID=Europe/Paris:20260327T093000
DTEND;TZID=Europe/Paris:20260327T163000
DTSTAMP:20260310T204112Z
URL:https://www.eco-bretons.info/events/rennes-35-liens-entre-droits-cultu
 rels-et-droit-de-lenvironnement/
SUMMARY:Rennes (35)\, Liens entre droits culturels et droit de l'environnem
 ent
DESCRIPTION:Quelles intersections entre conservation de la nature et droits
  culturels ? Quel lien entre défense de la nature par le droit et défens
 e des droits culturels ? Comment nos liens au territoire peuvent-ils être
  mobilisés dans les transitions écologiques ?  Pour le savoir\, inscriv
 ez vous à notre journée technique qui aura lieu le vendredi 27 mars à R
 ennes.\n— avec FNE - Bretagne.\n\n
ATTACH;FMTTYPE=image/jpeg:https://i0.wp.com/www.eco-bretons.info/wp-conten
 t/uploads/2026/03/649677677_1364829642345829_4950053956878180037_n.jpg?fit
 =2000%2C1414&ssl=1
END:VEVENT
BEGIN:VTIMEZONE
TZID:Europe/Paris
X-LIC-LOCATION:Europe/Paris
BEGIN:STANDARD
DTSTART:20251026T020000
TZOFFSETFROM:+0200
TZOFFSETTO:+0100
TZNAME:CET
END:STANDARD
END:VTIMEZONE
END:VCALENDAR