﻿ BEGIN:VCALENDAR
VERSION:2.0
PRODID:-//wp-events-plugin.com//7.2.3.1//EN
TZID:Europe/Paris
X-WR-TIMEZONE:Europe/Paris
BEGIN:VEVENT
UID:125@eco-bretons.info
DTSTART;TZID=Europe/Paris:20260529T000000
DTEND;TZID=Europe/Paris:20260530T000000
DTSTAMP:20260306T213154Z
URL:https://www.eco-bretons.info/events/rennes-35-bioblitz-2026-inventaire
 -de-la-biodiversite-sur-les-campus-rennais/
SUMMARY:Rennes (35)\, BioBlitz 2026 : Inventaire de la biodiversité sur le
 s campus rennais
DESCRIPTION:Venez participer au grand inventaire de la biodiversité sur le
 s 5 campus de l'ouest rennais le vendredi 29 et samedi 30 mai 2026. Durant
  48h\, accompagnés d'experts et expertes\, vous pourrez découvrir la fau
 ne et la flore\, réaliserez vous-même les échantillonnages\, l'identifi
 cation et la saisie des données. Les experts et expertes transmettront le
 urs connaissances et leur passion.\n\n\n\nQu'est-ce qu'un Bioblitz ?\nUn B
 ioBlitz est un inventaire de la biodiversité (faune\, flore) réalisé\, 
 comme son nom l’indique\, en un “éclair” (blitz en allemand). Il se
  déroulera sur les deux campus de l’Université Rennes 2 (Villejean et 
 La Harpe)\, l'Institut Agro Rennes-Angers\, le campus Santé de l'Universi
 té de Rennes et l'Ecole des Hautes Etudes en Santé Publique. Durant 48h
 \, étudiants\, étudiantes\, personnels et leur famille\, habitants et ha
 bitantes du quartier ou d'ailleurs... experts ou novices sont invités à 
 participer à cet inventaire dans une atmosphère ludique et conviviale.\n
 Objectif\nL’objectif de ce BioBlitz est d’inventorier les espèces ani
 males et végétales présentes sur nos campus afin de déterminer la rich
 esse de la biodiversité actuelle. Les résultats permettront de mieux con
 naître ce qui s'y passe et donc d'adapter nos actions\, nos aménagements
  et notre gestion des espaces extérieurs en prenant mieux en compte cette
  dimension. Ces inventaires réguliers permettront de suivre son évolutio
 n dans le temps et la pertinence des actions entreprises.\n\n 	Vendredi 29
  et samedi 30 mai de 9h à 17h : collecte et observation de jour sur les 
 5 campus\, identification et saisie des données\n\n. Des spécialistes vo
 us accompagnent et vous initient à l'observation et à la reconnaissance 
 de différents taxons (oiseaux\, araignées\, mammifères\, faune du sol\,
  insectes\, végétaux...)\n 	Vendredi 29 à partir de 20h30 : participez 
 à l'inventaire des papillons de nuit et des chauves-souris sur le campus 
 de l'Institut Agro Rennes-Angers\n\nAfin de faciliter l'organisation\, vou
 s pouvez vous inscrire au préalable :\nInscription au Bioblitz 2026 \n\n
 Taxons observés pendant ces 2 jours\n\n 	Flore\n 	Lichens et mousses\n 	C
 hampignon\n 	Oiseaux\n 	Chauves-souris\n 	Insectes\n 	Papillons\n 	Araign
 ées\n 	Invertébrés du sol\n 	Amphibiens\n 	Reptiles\n\n\n\n\n\n\n\n\nÉ
 vènement organisé par l'Université Rennes 2\, l'Institut Agro Rennes-An
 gers\, l'Université de Rennes et l'École des Hautes Études en Santé Pu
 blique (EHESP).\nInformations pratiques\n\n\n\n\n\n\nDeux points de rendez
 -vous :\n\n 	Campus Villejean - Université Rennes 2\nSalles du bâtiment 
 F - Entrée Avenue Léon Bernard\nAccès : Métro Villejean Université - 
 Bus C4 arrêts Berger ou Université - VéloSTAR station Berger\n 	L'Insti
 tut Agro Rennes-Angers\nBâtiment principal N°11\, 65 rue de Saint-Brieuc
 \nAccès : Bus C4 arrêt Marbeuf - VéloSTAR station Berger\n\nContacts\n\
 n\n\n\nJulie Clément - Chargée de projets Transition socio-environnement
 ale à l'Université Rennes 2\n\n\n\n\n\n\nCourriel : julie.clement@univ-
 rennes2.fr\n\n\n\n\n\n\n\nNathalie Boulier-Monthéan - Chargée de projets
  Développement Durable et Responsabilité Sociétale à l'Institut Agro R
 ennes-Angers\n\n\n\n\n\n\nCourriel : nathalie.monthean@agrocampus-ouest.f
 r\n\n\n\n\n\n\n\n\n\n
ATTACH;FMTTYPE=image/jpeg:https://i0.wp.com/www.eco-bretons.info/wp-conten
 t/uploads/2026/03/Coccinelle.png?fit=382%2C540&ssl=1
END:VEVENT
BEGIN:VTIMEZONE
TZID:Europe/Paris
X-LIC-LOCATION:Europe/Paris
BEGIN:DAYLIGHT
DTSTART:20260329T030000
TZOFFSETFROM:+0100
TZOFFSETTO:+0200
TZNAME:CEST
END:DAYLIGHT
END:VTIMEZONE
END:VCALENDAR