﻿ BEGIN:VCALENDAR
VERSION:2.0
PRODID:-//wp-events-plugin.com//7.2.3.1//EN
TZID:Europe/Paris
X-WR-TIMEZONE:Europe/Paris
BEGIN:VEVENT
UID:160@eco-bretons.info
DTSTART;TZID=Europe/Paris:20260423T180000
DTEND;TZID=Europe/Paris:20260423T210000
DTSTAMP:20260421T091140Z
URL:https://www.eco-bretons.info/events/primelin-29-paysans-sentinelles-pa
 ysans-de-nature-projection-discussion/
SUMMARY:Primelin (29)\, Paysans sentinelles\, Paysans de Nature - projectio
 n/discussion
DESCRIPTION:Une projection du film 'Paysans sentinelles" est organisée ce 
 jeudi 23 avril à 18h dans le tiers-lieu la Pointe Emmaüs à Primelin. Le
  film traite du sujet de la biodiversité en agriculture. Résumé : « Au
  cœur du Marais breton\, un groupe de paysans s’engage au quotidien pou
 r la sauvegarde de la faune sauvage de leur région. Depuis 10 ans\, ils f
 ont le pari que l’agriculture peut devenir le meilleur outil de protecti
 on de la vie sauvage. Ces "Paysans de nature" portent le message optimiste
  qu’une agriculture ‘‘joyeuse et humaine’’\, où chaque être vi
 vant a sa place\, est possible.» La projection sera suivie d'un échange 
 avec des agriculteurs locaux impliqués dans la démarche "paysans de natu
 re". \n\nLa Pointe Emmaüs - 21\, Route de la Pointe du Raz - 29770 Primel
 in\nTéléphone : 06.13.03.04.34
ATTACH;FMTTYPE=image/jpeg:https://i0.wp.com/www.eco-bretons.info/wp-conten
 t/uploads/2026/04/674201777_1384354803719812_688214302165500861_n.jpg?fit=
 1080%2C2340&ssl=1
END:VEVENT
BEGIN:VTIMEZONE
TZID:Europe/Paris
X-LIC-LOCATION:Europe/Paris
BEGIN:DAYLIGHT
DTSTART:20260329T030000
TZOFFSETFROM:+0100
TZOFFSETTO:+0200
TZNAME:CEST
END:DAYLIGHT
END:VTIMEZONE
END:VCALENDAR