﻿ BEGIN:VCALENDAR
VERSION:2.0
PRODID:-//wp-events-plugin.com//7.2.3.1//EN
TZID:Europe/Paris
X-WR-TIMEZONE:Europe/Paris
BEGIN:VEVENT
UID:162@eco-bretons.info
DTSTART;TZID=Europe/Paris:20260603T183000
DTEND;TZID=Europe/Paris:20260603T203000
DTSTAMP:20260422T072642Z
URL:https://www.eco-bretons.info/events/plouezoch-29-humain-et-nature-un-l
 ien-profond-conference-en-mouvement/
SUMMARY:Plouezoc'h (29)\, Humain et nature\, un lien profond - Conférence 
 en mouvement
DESCRIPTION:Dans le cadre du projet Sainbiote (Santé Interaction Biodivers
 ité Territoire - soigner par le vivant) qui propose des activités de rec
 onnexion à la nature\, telles que des balades sensorielles ou des temps d
 ’observation de la biodiversité\, l'Ulamir-CPIE du Pays de Morlaix prop
 ose une conférence en mouvement pour découvrir ce que nous révèlent le
 s dernières recherches quant à l'impact du contact avec la nature sur no
 tre santé et l'expérimentez-le dans la nature.\n\nCela se déroulera à 
 Traon Nevez\, au Dourduff-en-Mer/Plouézoc'h.\n\nInscriptions : sainbiote@
 ulamir-cpie.bzh
ATTACH;FMTTYPE=image/jpeg:https://i0.wp.com/www.eco-bretons.info/wp-conten
 t/uploads/2026/04/Nature-et-sante_page-0001.jpg?fit=980%2C914&ssl=1
END:VEVENT
BEGIN:VTIMEZONE
TZID:Europe/Paris
X-LIC-LOCATION:Europe/Paris
BEGIN:DAYLIGHT
DTSTART:20260329T030000
TZOFFSETFROM:+0100
TZOFFSETTO:+0200
TZNAME:CEST
END:DAYLIGHT
END:VTIMEZONE
END:VCALENDAR