﻿ BEGIN:VCALENDAR
VERSION:2.0
PRODID:-//wp-events-plugin.com//7.2.3.1//EN
TZID:Europe/Paris
X-WR-TIMEZONE:Europe/Paris
BEGIN:VEVENT
UID:124@eco-bretons.info
DTSTART;TZID=Europe/Paris:20260307T180000
DTEND;TZID=Europe/Paris:20260307T220000
DTSTAMP:20260306T083759Z
URL:https://www.eco-bretons.info/events/nantes-44-pollutions-invisibles-ca
 ncers-bien-reels-table-ronde/
SUMMARY:Nantes (44)\, Pollutions invisibles\, cancers bien réels - Table r
 onde
DESCRIPTION:Mettre fin à la violence chimique\, c’est possible !\nPestic
 ides\, PFAS\, pollutions\, face à l’empoisonnent généralisé\, la pop
 ulation se mobilise.\nDébat en présence de : Fleur Breteau\, porte-parol
 e du collectif Cancer Colère\, Audrey Lacroix\, paysanne Bio\, Mickaël D
 erangeon\, scientifique spécialiste de l’eau et Laure Marivain\, Lanceu
 se d’alerte\, mère d’un enfant décédé des suites d’une contamina
 tion aux pesticides.\n\nLe débat sera animé par Anette Ory-Lamballe form
 atrice et consultante sur les inégalités systémiques et prévention des
  discriminations.\n\nIl sera suivi à 20 h 30 du spectacle Pochette-surpri
 se et brasse coulée Journal d’un cancer du sein par la Compagnie Si la 
 pluie te mouille. Des mots et des chansons grâce auxquels Delphine Vince 
 dissèque ce qui la traverse à l’annonce du diagnostic de son cancer du
  sein\, mais aussi des réflexions politiques et sociétales en lien avec 
 cette maladie.\n\nLabo Diva - 24\, mail des Chantiers - Nantes\nhttps://ww
 w.facebook.com/labodiva\n\n
ATTACH;FMTTYPE=image/jpeg:https://i0.wp.com/www.eco-bretons.info/wp-conten
 t/uploads/2026/03/1.jpg?fit=874%2C1240&ssl=1
END:VEVENT
BEGIN:VTIMEZONE
TZID:Europe/Paris
X-LIC-LOCATION:Europe/Paris
BEGIN:STANDARD
DTSTART:20251026T020000
TZOFFSETFROM:+0200
TZOFFSETTO:+0100
TZNAME:CET
END:STANDARD
END:VTIMEZONE
END:VCALENDAR