﻿ BEGIN:VCALENDAR
VERSION:2.0
PRODID:-//wp-events-plugin.com//7.2.3.1//EN
TZID:Europe/Paris
X-WR-TIMEZONE:Europe/Paris
BEGIN:VEVENT
UID:161@eco-bretons.info
DTSTART;TZID=Europe/Paris:20260506T180000
DTEND;TZID=Europe/Paris:20260506T200000
DTSTAMP:20260421T200721Z
URL:https://www.eco-bretons.info/events/morlaix-plourin-les-morlaix-29-uto
 pies-rustiques-paysages-et-jardin-en-chantier/
SUMMARY:Morlaix/Plourin-lès-Morlaix (29)\, "Utopies Rustiques\, paysages e
 t jardin en chantier"
DESCRIPTION:\nPrésentation et discussion autour du livre "Utopies Rustique
 s\, paysages et jardin en chantier » aux éditions Parenthèses.\nAnimé 
 par Lénaïg/Les Déferlantes-Librairie-Café et échanges avec le collect
 if Chifoumi\, co-auteur de l’ouvrage.\n\n\n\nCette présentation explore
 ra les raisons de l’écriture de cet ouvrage\, tout à la fois un guide 
 de conduite du vivant fourmillant de savoirs et savoir-faire généreuseme
 nt partagés et illustrés\, un court traité de philosophie du projet de 
 paysage et un récit à plusieurs voix stimulant pour proposer des horizon
 s face à la remise en question nécessaire de toute une société.\n\n\n\
 nCette rencontre s’adresse autant à un public de néophytes ou d’inst
 itutions et de professionnels intéressés par des projets plus transversa
 ux\, dans la mesure où ces projets\, de part leur dimension participative
 s\, proposent la mise en lien\, autour d’espaces vivants\, des usagers a
 vec les services des villes\, décideurs comme techniciens."\n\n\n\nGratui
 t. Sur inscription : contact@collectifchifoumi.com\nhttps://www.collectifc
 hifoumi.com/\n
ATTACH;FMTTYPE=image/jpeg:https://i0.wp.com/www.eco-bretons.info/wp-conten
 t/uploads/2026/04/affiche-6-mai-_-les-Utopies-Rustiques-__page-0001-scaled
 .jpg?fit=1810%2C2560&ssl=1
END:VEVENT
BEGIN:VTIMEZONE
TZID:Europe/Paris
X-LIC-LOCATION:Europe/Paris
BEGIN:DAYLIGHT
DTSTART:20260329T030000
TZOFFSETFROM:+0100
TZOFFSETTO:+0200
TZNAME:CEST
END:DAYLIGHT
END:VTIMEZONE
END:VCALENDAR