﻿ BEGIN:VCALENDAR
VERSION:2.0
PRODID:-//wp-events-plugin.com//7.2.3.1//EN
TZID:Europe/Paris
X-WR-TIMEZONE:Europe/Paris
BEGIN:VEVENT
UID:127@eco-bretons.info
DTSTART;TZID=Europe/Paris:20260315T100000
DTEND;TZID=Europe/Paris:20260315T160000
DTSTAMP:20260310T204521Z
URL:https://www.eco-bretons.info/events/montauban-de-bretagne-35-a-la-renc
 ontre-du-petit-ours-de-broceliande/
SUMMARY:Montauban-de-Bretagne (35)\, A la rencontre du petit ours de Brocé
 liande
DESCRIPTION:\n\n\nJournée à la rencontre du petit ours de Brocéliande\n\
 n\n\n\n\n\nAnimal discret aux mœurs noctambules et fouisseuses\, le blair
 eau reste mal connu en France. Victime régulière des collisions routièr
 es\, on a hélas plus de probabilité de le voir mort sur le bas-côté de
  la route que vivant lors d’une balade en forêt. Surnommé « petit o
 urs des campagnes »\, le plus gros de la famille des mustélidés subit
  par ailleurs l’une des chasses les plus cruelles qui soient en France
  : la vénerie sous terre.\n\nIl vit dans des milieux variés : forêts 
 de feuillus\, bocage\, landes\, littoral… Il creuse des terriers parfois
  très vastes dans des sols profonds et bien drainés qu’il peut partage
 r avec d’autres espèces (Lapin\, Renard\, Loutre\, Martre\, Chauves-sou
 ris\, Crapauds…). Omnivore\, il consomme avant tout des vers de terre\, 
 mais aussi des Insectes\, limaces\, escargots\, Amphibiens\, des bulbes\, 
 des tubercules\, des baies et des charognes. Parfois solitaire\, il vit le
  plus souvent en couple ou en clan familial.\n\nL’activité aura lieu le
  dimanche 15 Mars à Montauban-de-Bretagne (35)\, avec au programme :\n\n
 – 10h-12h : Présentation de l’espèce et initiation au protocole de r
 ecensement des terriers de Blaireaux (en salle et sur site)\n-12h-13h : pi
 que-nique tiré du sac\n-13h-16h : Recensement des terriers de Blaireaux d
 e la forêt de Montauban-de-Bretagne\n\nPour vous inscrire\, merci de pré
 ciser le nombre de participants et votre nom.\n\nL’activité aura lieu a
 u Château de Montauban-de-Bretagne. Depuis Montauban\, prendre la route d
 e Médréac et c’est sur la gauche avant la forêt domaniale.\n\nUn év
 énement du club CPN Les P’tites Natures de Brocéliande et du GMB (Grou
 pe mammalogique breton)\n\nEn savoir plus (lieu précis\, inscriptions\, e
 tc.) :\nhttps://www.jagispourlanature.org/activite/journee-la-rencontre-du
 -petit-ours-de-broceliande\n\nPhoto Marcel Gloanec\n\n\n\n
ATTACH;FMTTYPE=image/jpeg:https://i0.wp.com/www.eco-bretons.info/wp-conten
 t/uploads/2026/03/Blaireaux_Marcel_Gloanec.jpg?fit=1024%2C704&ssl=1
END:VEVENT
BEGIN:VTIMEZONE
TZID:Europe/Paris
X-LIC-LOCATION:Europe/Paris
BEGIN:STANDARD
DTSTART:20251026T020000
TZOFFSETFROM:+0200
TZOFFSETTO:+0100
TZNAME:CET
END:STANDARD
END:VTIMEZONE
END:VCALENDAR