﻿ BEGIN:VCALENDAR
VERSION:2.0
PRODID:-//wp-events-plugin.com//7.2.3.1//EN
TZID:Europe/Paris
X-WR-TIMEZONE:Europe/Paris
BEGIN:VEVENT
UID:159@eco-bretons.info
DTSTART;TZID=Europe/Paris:20260506T190000
DTEND;TZID=Europe/Paris:20260506T220000
DTSTAMP:20260419T180333Z
URL:https://www.eco-bretons.info/events/cleguer-56-veillee-autour-du-scorf
 f-avec-lartiste-alexis-fichet/
SUMMARY:Cléguer (56)\, Veillée autour du Scorff avec l'artiste Alexis Fic
 het
DESCRIPTION:L'association La Malterie a pour but de promouvoir et soutenir 
 tout projet visant à valoriser et "brasser" le patrimoine environnemental
  et les arts sous toutes ses formes.\n\nAvec le théâtre Le Strapontin\, 
 elle vous invite à participer à une soirée autour de la question des ri
 vières\, et plus particulièrement du Scorff.\nAlexis Fichet\, auteur\, 
 écrit un spectacle de théâtre sur le Scorff\, et il organise des moment
 s de rencontre pour parler de la rivière\, de la façon dont on la vit\, 
 ce qui nous touche.\nPêcheur passionné ou promeneur\, baigneuse ou simpl
 e riveraine\, vous êtes les bienvenu·e·s !\n\nLa soirée se déroule en
  trois temps :  Lecture de textes liés aux rivières bretonnes\, par Ale
 xis Fichet\, puis temps d'échange autour du Scorff\, puis auberge espagno
 le.  Vous pouvez amener quelque chose à grignoter si vous le souhaitez.\
 n\n
ATTACH;FMTTYPE=image/jpeg:https://i0.wp.com/www.eco-bretons.info/wp-conten
 t/uploads/2026/04/674522803_122287498376236270_4081603237474981928_n.jpg?f
 it=929%2C626&ssl=1
END:VEVENT
BEGIN:VTIMEZONE
TZID:Europe/Paris
X-LIC-LOCATION:Europe/Paris
BEGIN:DAYLIGHT
DTSTART:20260329T030000
TZOFFSETFROM:+0100
TZOFFSETTO:+0200
TZNAME:CEST
END:DAYLIGHT
END:VTIMEZONE
END:VCALENDAR