﻿ BEGIN:VCALENDAR
VERSION:2.0
PRODID:-//wp-events-plugin.com//7.2.3.1//EN
TZID:Europe/Paris
X-WR-TIMEZONE:Europe/Paris
BEGIN:VEVENT
UID:163@eco-bretons.info
DTSTART;TZID=Europe/Paris:20260503T100000
DTEND;TZID=Europe/Paris:20260503T180000
DTSTAMP:20260425T075421Z
URL:https://www.eco-bretons.info/events/callac-22-visite-convivialiste-dun
 -jardin-punk-a-la-saxonne/
SUMMARY:Callac (22)\, Visite convivialiste d'un jardin punk à la saxonne
DESCRIPTION:Dimanche 3 mai\, vous êtes conviés aux "Portes Ouvertes" d’
 un jardin très particulier à Callac (22)\, chez Guy Joncour.\n- Il y aur
 a deux visites commentées par Guy à 11h et 16h30.\n- Il parlera aussi du
  Loup gris en Bretagne.\n- Samuel Lewis qui viendra raconter comment il cu
 ltive à la main sa ferme nourricière toute proche.\n- Avec Eric Lenoir\,
  ce sera le "Jardin Punk"\n- Philippe Pénicaud et Magali y tiendront un s
 tand de Couleurs succulentes : cactus\, plantes grasses et succulentes.\n
 - à 15 h\, mini-concert de harpe\, chant et flûte avec Anne Auffret\, Gw
 enola Ropartz et Pol Huellou.\n\n"Le jardin\, mature et souvent impression
 nant\, offre une belle collection végétale\, et est tourné depuis de tr
 ès nombreuses années vers l’accueil de la biodiversité\, et contient 
 donc de grandes zones très ouvertes à la flore spontanée ainsi que d’
 innombrables gîtes pour une faune qui y trouve à la fois des abris et de
  quoi se nourrir.\nUn jardin avec un fort caractère\, comme son propriét
 aire et créateur passionné connu comme le loup blanc en Centre-Bretagne.
  Ça tombe bien\, il parlera aussi du loup en Bretagne\, entre divers autr
 es sujets\, paraboles et digressions dont il a le secret.\nSi vous voulez 
 voir comment et pourquoi on fait un jardin beau et un peu punk\, avec des 
 bouts de jardin anglais dedans\, c’est le bon endroit et le bon moment."
  (E. Lenoir)\nVoyez d'autres détails pratiques sur l'affiche.\nParticipat
 ion libre au bénéfice du Secours populaire et des Restos du coeur
ATTACH;FMTTYPE=image/jpeg:https://i0.wp.com/www.eco-bretons.info/wp-conten
 t/uploads/2026/04/678812193_4218478345068426_4194800146117663072_n.jpg?fit
 =1080%2C1521&ssl=1
END:VEVENT
BEGIN:VTIMEZONE
TZID:Europe/Paris
X-LIC-LOCATION:Europe/Paris
BEGIN:DAYLIGHT
DTSTART:20260329T030000
TZOFFSETFROM:+0100
TZOFFSETTO:+0200
TZNAME:CEST
END:DAYLIGHT
END:VTIMEZONE
END:VCALENDAR